{"text_format":"1","workbook":"xlsx","n_sheets":3,"sheets":["PRONOSTICI","Mie modifiche","Riassunto"],"not_rendered":{"charts":0,"images":0,"macros":1,"external_links":0,"defined_names":0,"comments":0,"pivot_tables":0},"unopened":[],"bounds":{"document_bytes":16777216,"sheet_cells":100000,"rows_first":2000,"rows_last":500,"rows_between":2000,"halvings":0,"cell_chars":16384,"cell_head_chars":4096},"cells_cut":0,"cells_raw":0,"read":"whole","date_system":"1900"}

{"sheet":"PRONOSTICI","index":0,"n_rows":141,"n_cols":44,"rows_kept":141,"cut":false,"hidden":false,"merged":[[1,26,1,37],[42,3,42,6],[42,8,42,16],[62,3,62,6],[62,8,62,16],[1,8,1,16],[22,8,22,16],[1,3,1,6],[22,3,22,6],[1,22,1,24],[0,3,0,16],[102,3,102,6],[102,8,102,16],[122,3,122,6],[122,8,122,16],[82,3,82,6],[82,8,82,16]]}
[]
[null,null,null,"QUALIFICHE",null,null,null,null," GARA",null,null,null,null,null,null,null,null,null,null,null,null,null,"QUALIFICHE",null,null,null,"GARA",null,null,null,null,null,null,null,null,null,null,null,"Nascondere"]
[null,null,null,"1° POSTO","2° POSTO","3° POSTO","4° POSTO",null,"1° POSTO  ","2° POSTO","3° POSTO","4° POSTO","5° POSTO ","6° POSTO","7° POSTO","8° POSTO","GPV",null,null,null,null,null,"POSIZIONI ESATTE","BONUS IN ORDINE","BONUS NON IN ORDINE",null,"POSIZIONI ESATTE","BONUS 1-3      IN ORDINE","BONUS 1-5       IN ORDINE","BONUS 1-8        IN ORDINE","BONUS 1-3 NON      IN ORDINE","BONUS 1-5 NON      IN ORDINE","BONUS 1-8 NON      IN ORDINE","BONUS POS. NON IN ORDINE","BONUS GPV","BONUS BIG HAT TRICK","BONUS MINI HAT TRICK","TOT.","Bonus pole","Bonus GPV","Bonus 4 qualifica","Bonus podio gara","Bonus 5 gara","Bonus 8 gara"]
[null,"PILOTA","TEAM",null,null,null,null,null,null,null,null,null,null,null,null,null,null,null,null,null,null,null,"(pt.)","(pt.)","(pt.)",null,"(pt.)","(pt.)","(pt.)","(pt.)","(pt.)","(pt.)","(pt.)","(pt.)","(pt.)","(pt.)","(pt.)","(pt.)"]
[]
[null,"FUNMBNEL","FunMBNelia",null,null,null,null,null,null,null,null,null,null,null,null,null,null,null,null,null,"FUNMBNEL","FunMBNelia",{"$f":"SUM(D26:G26)","v":11},{"$f":"IF(SUM(D46:G46)= 4,7,0)","v":7},{"$f":"IF(X6>0,0,IF(COUNTIF(D66:G66,\">0\")=4,2,0))","v":0},null,{"$f":"SUM(I26:P26)","v":39},{"$f":"IF(OR(AC6>0,AD6>0),0,IF(SUM(I46:K46)=3,15,0))","v":0},{"$f":"IF(AD6>0,0,IF(SUM(I46:M46)=5,25,0))","v":0},{"$f":"IF(SUM(I46:P46)=8,40,0)","v":40},{"$f":"IF(OR(AF6>0,AG6>0),0,IF(AND(R66>=3,R66>R46),3,0))","v":0},{"$f":"IF(AG6>0,0,IF(AND(S66>=5,S66>S46),6,0))","v":0},{"$f":"IF(AND(T66=8,T66>T46),10,0)","v":0},{"$f":"SUM(I126:P126)","v":0},{"$f":"IF(Q6=Q4,1,0)","v":1},{"$f":"IF(AND(D6=D4,I6=I4,Q6=Q4),7,0)","v":7},{"$f":"IF(AJ6>0,0,IF(AND(D6=D4,I6=I4),4,0))","v":0},{"$f":"SUM(W6:Y6,AA6:AK6)","v":105},{"$f":"IF(D6=$D$4,'Mie modifiche'!$B$13,0)","v":1},{"$f":"IF(Q6=$Q$4,'Mie modifiche'!$B$14,0)","v":0.5},{"$f":"IF(SUM(D46:G46)=4,'Mie modifiche'!$B$15,0)","v":1},{"$f":"IF(R46=3,'Mie modifiche'!$B$16,0)","v":1},{"$f":"IF(S46=5,'Mie modifiche'!$B$17,0)","v":1},{"$f":"IF(T46=8,'Mie modifiche'!$B$18,0)","v":2}]
[null,"CRIS1981","Iron Racing",null,null,null,null,null,null,null,null,null,null,null,null,null,null,null,null,null,"CRIS1981","Iron Racing",11,7,0,null,39,0,0,40,0,0,0,0,{"$f":"IF(Q7=Q4,1,0)","v":1},{"$f":"IF(AND(D7=D4,I7=I4,Q7=Q4),7,0)","v":7},{"$f":"IF(AJ7>0,0,IF(AND(D7=D4,I7=I4),4,0))","v":0},{"$f":"SUM(W7:Y7,AA7:AK7)","v":105},{"$f":"IF(D7=$D$4,'Mie modifiche'!$B$13,0)","v":1},{"$f":"IF(Q7=$Q$4,'Mie modifiche'!$B$14,0)","v":0.5},{"$f":"IF(SUM(D47:G47)=4,'Mie modifiche'!$B$15,0)","v":1},{"$f":"IF(R47=3,'Mie modifiche'!$B$16,0)","v":1},{"$f":"IF(S47=5,'Mie modifiche'!$B$17,0)","v":1},{"$f":"IF(T47=8,'Mie modifiche'!$B$18,0)","v":2}]
[null,"ZIONE","I.H.A.L.R  Team",null,null,null,null,null,null,null,null,null,null,null,null,null,null,null,null,null,"ZIONE","I.H.A.L.R  Team",11,7,0,null,39,0,0,40,0,0,0,0,{"$f":"IF(Q8=Q4,1,0)","v":1},{"$f":"IF(AND(D8=D4,I8=I4,Q8=Q4),7,0)","v":7},{"$f":"IF(AJ8>0,0,IF(AND(D8=D4,I8=I4),4,0))","v":0},105,{"$f":"IF(D8=$D$4,'Mie modifiche'!$B$13,0)","v":1},{"$f":"IF(Q8=$Q$4,'Mie modifiche'!$B$14,0)","v":0.5},{"$f":"IF(SUM(D48:G48)=4,'Mie modifiche'!$B$15,0)","v":1},{"$f":"IF(R48=3,'Mie modifiche'!$B$16,0)","v":1},{"$f":"IF(S48=5,'Mie modifiche'!$B$17,0)","v":1},{"$f":"IF(T48=8,'Mie modifiche'!$B$18,0)","v":2}]
[null,"GIOVANNI78","Giovanni78",null,null,null,null,null,null,null,null,null,null,null,null,null,null,null,null,null,"GIOVANNI78","Giovanni78",11,7,0,null,39,0,0,40,0,0,0,0,{"$f":"IF(Q9=Q4,1,0)","v":1},{"$f":"IF(AND(D9=D4,I9=I4,Q9=Q4),7,0)","v":7},{"$f":"IF(AJ9>0,0,IF(AND(D9=D4,I9=I4),4,0))","v":0},105,{"$f":"IF(D9=$D$4,'Mie modifiche'!$B$13,0)","v":1},{"$f":"IF(Q9=$Q$4,'Mie modifiche'!$B$14,0)","v":0.5},{"$f":"IF(SUM(D49:G49)=4,'Mie modifiche'!$B$15,0)","v":1},{"$f":"IF(R49=3,'Mie modifiche'!$B$16,0)","v":1},{"$f":"IF(S49=5,'Mie modifiche'!$B$17,0)","v":1},{"$f":"IF(T49=8,'Mie modifiche'!$B$18,0)","v":2}]
[null,"HEINRICH","Neotus",null,null,null,null,null,null,null,null,null,null,null,null,null,null,null,null,null,"HEINRICH","Neotus",11,7,0,null,39,0,0,40,0,0,0,0,{"$f":"IF(Q10=Q4,1,0)","v":1},{"$f":"IF(AND(D10=D4,I10=I4,Q10=Q4),7,0)","v":7},{"$f":"IF(AJ10>0,0,IF(AND(D10=D4,I10=I4),4,0))","v":0},105,{"$f":"IF(D10=$D$4,'Mie modifiche'!$B$13,0)","v":1},{"$f":"IF(Q10=$Q$4,'Mie modifiche'!$B$14,0)","v":0.5},{"$f":"IF(SUM(D50:G50)=4,'Mie modifiche'!$B$15,0)","v":1},{"$f":"IF(R50=3,'Mie modifiche'!$B$16,0)","v":1},{"$f":"IF(S50=5,'Mie modifiche'!$B$17,0)","v":1},{"$f":"IF(T50=8,'Mie modifiche'!$B$18,0)","v":2}]
[null,"ALE92","Ale92",null,null,null,null,null,null,null,null,null,null,null,null,null,null,null,null,null,"ALE92","Ale92",11,7,0,null,39,0,0,40,0,0,0,0,{"$f":"IF(Q11=Q4,1,0)","v":1},{"$f":"IF(AND(D11=D4,I11=I4,Q11=Q4),7,0)","v":7},{"$f":"IF(AJ11>0,0,IF(AND(D11=D4,I11=I4),4,0))","v":0},105,{"$f":"IF(D11=$D$4,'Mie modifiche'!$B$13,0)","v":1},{"$f":"IF(Q11=$Q$4,'Mie modifiche'!$B$14,0)","v":0.5},{"$f":"IF(SUM(D51:G51)=4,'Mie modifiche'!$B$15,0)","v":1},{"$f":"IF(R51=3,'Mie modifiche'!$B$16,0)","v":1},{"$f":"IF(S51=5,'Mie modifiche'!$B$17,0)","v":1},{"$f":"IF(T51=8,'Mie modifiche'!$B$18,0)","v":2}]
[null,"PESO","Peso",null,null,null,null,null,null,null,null,null,null,null,null,null,null,null,null,null,"PESO","Peso",11,7,0,null,39,0,0,40,0,0,0,0,{"$f":"IF(Q12=Q4,1,0)","v":1},{"$f":"IF(AND(D12=D4,I12=I4,Q12=Q4),7,0)","v":7},{"$f":"IF(AJ12>0,0,IF(AND(D12=D4,I12=I4),4,0))","v":0},105,{"$f":"IF(D12=$D$4,'Mie modifiche'!$B$13,0)","v":1},{"$f":"IF(Q12=$Q$4,'Mie modifiche'!$B$14,0)","v":0.5},{"$f":"IF(SUM(D52:G52)=4,'Mie modifiche'!$B$15,0)","v":1},{"$f":"IF(R52=3,'Mie modifiche'!$B$16,0)","v":1},{"$f":"IF(S52=5,'Mie modifiche'!$B$17,0)","v":1},{"$f":"IF(T52=8,'Mie modifiche'!$B$18,0)","v":2}]
[null,"ELTARA","Carignan Racing Team",null,null,null,null,null,null,null,null,null,null,null,null,null,null,null,null,null,"ELTARA","Carignan Racing Team",11,7,0,null,39,0,0,40,0,0,0,0,{"$f":"IF(Q13=Q4,1,0)","v":1},{"$f":"IF(AND(D13=D4,I13=I4,Q13=Q4),7,0)","v":7},{"$f":"IF(AJ13>0,0,IF(AND(D13=D4,I13=I4),4,0))","v":0},105,{"$f":"IF(D13=$D$4,'Mie modifiche'!$B$13,0)","v":1},{"$f":"IF(Q13=$Q$4,'Mie modifiche'!$B$14,0)","v":0.5},{"$f":"IF(SUM(D53:G53)=4,'Mie modifiche'!$B$15,0)","v":1},{"$f":"IF(R53=3,'Mie modifiche'!$B$16,0)","v":1},{"$f":"IF(S53=5,'Mie modifiche'!$B$17,0)","v":1},{"$f":"IF(T53=8,'Mie modifiche'!$B$18,0)","v":2}]
[null,"CORRY","Corryderia",null,null,null,null,null,null,null,null,null,null,null,null,null,null,null,null,null,"CORRY","Corryderia",11,7,0,null,39,0,0,40,0,0,0,0,{"$f":"IF(Q14=Q4,1,0)","v":1},{"$f":"IF(AND(D14=D4,I14=I4,Q14=Q4),7,0)","v":7},{"$f":"IF(AJ14>0,0,IF(AND(D14=D4,I14=I4),4,0))","v":0},105,{"$f":"IF(D14=$D$4,'Mie modifiche'!$B$13,0)","v":1},{"$f":"IF(Q14=$Q$4,'Mie modifiche'!$B$14,0)","v":0.5},{"$f":"IF(SUM(D54:G54)=4,'Mie modifiche'!$B$15,0)","v":1},{"$f":"IF(R54=3,'Mie modifiche'!$B$16,0)","v":1},{"$f":"IF(S54=5,'Mie modifiche'!$B$17,0)","v":1},{"$f":"IF(T54=8,'Mie modifiche'!$B$18,0)","v":2}]
[null,"BELLI83","Belli Racing",null,null,null,null,null,null,null,null,null,null,null,null,null,null,null,null,null,"BELLI83","Belli Racing",11,7,0,null,39,0,0,40,0,0,0,0,{"$f":"IF(Q15=Q4,1,0)","v":1},{"$f":"IF(AND(D15=D4,I15=I4,Q15=Q4),7,0)","v":7},{"$f":"IF(AJ15>0,0,IF(AND(D15=D4,I15=I4),4,0))","v":0},105,{"$f":"IF(D15=$D$4,'Mie modifiche'!$B$13,0)","v":1},{"$f":"IF(Q15=$Q$4,'Mie modifiche'!$B$14,0)","v":0.5},{"$f":"IF(SUM(D55:G55)=4,'Mie modifiche'!$B$15,0)","v":1},{"$f":"IF(R55=3,'Mie modifiche'!$B$16,0)","v":1},{"$f":"IF(S55=5,'Mie modifiche'!$B$17,0)","v":1},{"$f":"IF(T55=8,'Mie modifiche'!$B$18,0)","v":2}]
[null,null,null,null,null,null,null,null,null,null,null,null,null,null,null,null,null,null,null,null,null,null,11,7,0,null,39,0,0,40,0,0,0,0,{"$f":"IF(Q16=Q4,1,0)","v":1},{"$f":"IF(AND(D16=D4,I16=I4,Q16=Q4),7,0)","v":7},{"$f":"IF(AJ16>0,0,IF(AND(D16=D4,I16=I4),4,0))","v":0},105,{"$f":"IF(D16=$D$4,'Mie modifiche'!$B$13,0)","v":1},{"$f":"IF(Q16=$Q$4,'Mie modifiche'!$B$14,0)","v":0.5},{"$f":"IF(SUM(D56:G56)=4,'Mie modifiche'!$B$15,0)","v":1},{"$f":"IF(R56=3,'Mie modifiche'!$B$16,0)","v":1},{"$f":"IF(S56=5,'Mie modifiche'!$B$17,0)","v":1},{"$f":"IF(T56=8,'Mie modifiche'!$B$18,0)","v":2}]
[null,null,null,null,null,null,null,null,null,null,null,null,null,null,null,null,null,null,null,null,null,null,{"$f":"SUM(D37:G37)","v":11},7,0,null,{"$f":"SUM(I37:P37)","v":39},0,0,{"$f":"IF(SUM(I57:P57)=8,40,0)","v":40},0,0,0,{"$f":"SUM(I137:P137)","v":0},{"$f":"IF(Q17=Q4,1,0)","v":1},{"$f":"IF(AND(D17=D4,I17=I4,Q17=Q4),7,0)","v":7},{"$f":"IF(AJ17>0,0,IF(AND(D17=D4,I17=I4),4,0))","v":0},105,{"$f":"IF(D17=$D$4,'Mie modifiche'!$B$13,0)","v":1},{"$f":"IF(Q17=$Q$4,'Mie modifiche'!$B$14,0)","v":0.5},{"$f":"IF(SUM(D57:G57)=4,'Mie modifiche'!$B$15,0)","v":1},{"$f":"IF(R57=3,'Mie modifiche'!$B$16,0)","v":1},{"$f":"IF(S57=5,'Mie modifiche'!$B$17,0)","v":1},{"$f":"IF(T57=8,'Mie modifiche'!$B$18,0)","v":2}]
[null,null,null,null,null,null,null,null,null,null,null,null,null,null,null,null,null,null,null,null,null,null,{"$f":"SUM(D38:G38)","v":11},{"$f":"IF(SUM(D58:G58)= 4,7,0)","v":7},0,null,{"$f":"SUM(I38:P38)","v":39},0,0,{"$f":"IF(SUM(I58:P58)=8,40,0)","v":40},0,0,0,{"$f":"SUM(I138:P138)","v":0},{"$f":"IF(Q18=Q4,1,0)","v":1},{"$f":"IF(AND(D18=D4,I18=I4,Q18=Q4),7,0)","v":7},{"$f":"IF(AJ18>0,0,IF(AND(D18=D4,I18=I4),4,0))","v":0},{"$f":"SUM(W18:Y18,AA18:AK18)","v":105},{"$f":"IF(D18=$D$4,'Mie modifiche'!$B$13,0)","v":1},{"$f":"IF(Q18=$Q$4,'Mie modifiche'!$B$14,0)","v":0.5},{"$f":"IF(SUM(D58:G58)=4,'Mie modifiche'!$B$15,0)","v":1},{"$f":"IF(R58=3,'Mie modifiche'!$B$16,0)","v":1},{"$f":"IF(S58=5,'Mie modifiche'!$B$17,0)","v":1},{"$f":"IF(T58=8,'Mie modifiche'!$B$18,0)","v":2}]
[null,null,null,null,null,null,null,null,null,null,null,null,null,null,null,null,null,null,null,null,null,null,{"$f":"SUM(D39:G39)","v":11},{"$f":"IF(SUM(D59:G59)= 4,7,0)","v":7},0,null,{"$f":"SUM(I39:P39)","v":39},0,0,{"$f":"IF(SUM(I59:P59)=8,40,0)","v":40},0,0,0,{"$f":"SUM(I139:P139)","v":0},{"$f":"IF(Q19=Q4,1,0)","v":1},{"$f":"IF(AND(D19=D4,I19=I4,Q19=Q4),7,0)","v":7},{"$f":"IF(AJ19>0,0,IF(AND(D19=D4,I19=I4),4,0))","v":0},{"$f":"SUM(W19:Y19,AA19:AK19)","v":105},{"$f":"IF(D19=$D$4,'Mie modifiche'!$B$13,0)","v":1},{"$f":"IF(Q19=$Q$4,'Mie modifiche'!$B$14,0)","v":0.5},{"$f":"IF(SUM(D59:G59)=4,'Mie modifiche'!$B$15,0)","v":1},{"$f":"IF(R59=3,'Mie modifiche'!$B$16,0)","v":1},{"$f":"IF(S59=5,'Mie modifiche'!$B$17,0)","v":1},{"$f":"IF(T59=8,'Mie modifiche'!$B$18,0)","v":2}]
[null,null,null,null,null,null,null,null,null,null,null,null,null,null,null,null,null,null,null,null,null,null,11,7,0,null,39,0,0,40,0,0,0,0,{"$f":"IF(Q20=Q4,1,0)","v":1},{"$f":"IF(AND(D20=D4,I20=I4,Q20=Q4),7,0)","v":7},{"$f":"IF(AJ20>0,0,IF(AND(D20=D4,I20=I4),4,0))","v":0},105,{"$f":"IF(D20=$D$4,'Mie modifiche'!$B$13,0)","v":1},{"$f":"IF(Q20=$Q$4,'Mie modifiche'!$B$14,0)","v":0.5},{"$f":"IF(SUM(D60:G60)=4,'Mie modifiche'!$B$15,0)","v":1},{"$f":"IF(R60=3,'Mie modifiche'!$B$16,0)","v":1},{"$f":"IF(S60=5,'Mie modifiche'!$B$17,0)","v":1},{"$f":"IF(T60=8,'Mie modifiche'!$B$18,0)","v":2}]
[null,null,null,null,null,null,null,null,null,null,null,null,null,null,null,null,null,null,null,null,null,null,{"$f":"SUM(D41:G41)","v":11},{"$f":"IF(SUM(D61:G61)= 4,7,0)","v":7},0,null,{"$f":"SUM(I41:P41)","v":39},0,0,{"$f":"IF(SUM(I61:P61)=8,40,0)","v":40},0,0,0,{"$f":"SUM(I141:P141)","v":0},{"$f":"IF(Q21=Q4,1,0)","v":1},{"$f":"IF(AND(D21=D4,I21=I4,Q21=Q4),7,0)","v":7},{"$f":"IF(AJ21>0,0,IF(AND(D21=D4,I21=I4),4,0))","v":0},{"$f":"SUM(W21:Y21,AA21:AK21)","v":105},{"$f":"IF(D21=$D$4,'Mie modifiche'!$B$13,0)","v":1},{"$f":"IF(Q21=$Q$4,'Mie modifiche'!$B$14,0)","v":0.5},{"$f":"IF(SUM(D61:G61)=4,'Mie modifiche'!$B$15,0)","v":1},{"$f":"IF(R61=3,'Mie modifiche'!$B$16,0)","v":1},{"$f":"IF(S61=5,'Mie modifiche'!$B$17,0)","v":1},{"$f":"IF(T61=8,'Mie modifiche'!$B$18,0)","v":2}]
[]
[null,null,null,"CALCOLI QUALIFICHE POSIZIONI ESATTE",null,null,null,null,"CALCOLI GARA POSIZIONI ESATTE"]
[null,null,null,"1° POSTO","2° POSTO ","3° POSTO","4° POSTO",null,"1° POSTO","2° POSTO","3° POSTO","4° POSTO","5° POSTO","6° POSTO","7° POSTO","8° POSTO ","GPV"]
[]
[null,"FUNMBNEL",null,{"$f":"IF(D4=D6,5,0)","v":5},{"$f":"IF(E4=E6,3,0)","v":3},{"$f":"IF(F4=F6,2,0)","v":2},{"$f":"IF(G4=G6,1,0)","v":1},null,{"$f":"IF(I4=I6,10,0)","v":10},{"$f":"IF(J4=J6,8,0)","v":8},{"$f":"IF(K4=K6,6,0)","v":6},{"$f":"IF(L4=L6,5,0)","v":5},{"$f":"IF(M4=M6,4,0)","v":4},{"$f":"IF(N4=N6,3,0)","v":3},{"$f":"IF(O4=O6,2,0)","v":2},{"$f":"IF(P4=P6,1,0)","v":1},{"$f":"IF(Q4=Q6,1,0)","v":1}]
[null,"CRIS1981",null,{"$f":"IF(D4=D7,5,0)","v":5},{"$f":"IF(E4=E7,3,0)","v":3},{"$f":"IF(F4=F7,2,0)","v":2},{"$f":"IF(G4=G7,1,0)","v":1},null,{"$f":"IF(I4=I7,10,0)","v":10},{"$f":"IF(J4=J7,8,0)","v":8},{"$f":"IF(K4=K7,6,0)","v":6},{"$f":"IF(L4=L7,5,0)","v":5},{"$f":"IF(M4=M7,4,0)","v":4},{"$f":"IF(N4=N7,3,0)","v":3},{"$f":"IF(O4=O7,2,0)","v":2},{"$f":"IF(P4=P7,1,0)","v":1},{"$f":"IF(Q4=Q7,1,0)","v":1}]
[null,"ZIONE",null,{"$f":"IF(D4=D8,5,0)","v":5},{"$f":"IF(E4=E8,3,0)","v":3},{"$f":"IF(F4=F8,2,0)","v":2},{"$f":"IF(G4=G8,1,0)","v":1},null,{"$f":"IF(I4=I8,10,0)","v":10},{"$f":"IF(J4=J8,8,0)","v":8},{"$f":"IF(K4=K8,6,0)","v":6},{"$f":"IF(L4=L8,5,0)","v":5},{"$f":"IF(M4=M8,4,0)","v":4},{"$f":"IF(N4=N8,3,0)","v":3},{"$f":"IF(O4=O8,2,0)","v":2},{"$f":"IF(P4=P8,1,0)","v":1},{"$f":"IF(Q4=Q8,1,0)","v":1}]
[null,"PYNTAKX",null,{"$f":"IF(D4=D9,5,0)","v":5},{"$f":"IF(E4=E9,3,0)","v":3},{"$f":"IF(F4=F9,2,0)","v":2},{"$f":"IF(G4=G9,1,0)","v":1},null,{"$f":"IF(I4=I9,10,0)","v":10},{"$f":"IF(J4=J9,8,0)","v":8},{"$f":"IF(K4=K9,6,0)","v":6},{"$f":"IF(L4=L9,5,0)","v":5},{"$f":"IF(M4=M9,4,0)","v":4},{"$f":"IF(N4=N9,3,0)","v":3},{"$f":"IF(O4=O9,2,0)","v":2},{"$f":"IF(P4=P9,1,0)","v":1},{"$f":"IF(Q4=Q9,1,0)","v":1}]
[null,"GIORGIO",null,{"$f":"IF(D4=D10,5,0)","v":5},{"$f":"IF(E4=E10,3,0)","v":3},{"$f":"IF(F4=F10,2,0)","v":2},{"$f":"IF(G4=G10,1,0)","v":1},null,{"$f":"IF(I4=I10,10,0)","v":10},{"$f":"IF(J4=J10,8,0)","v":8},{"$f":"IF(K4=K10,6,0)","v":6},{"$f":"IF(L4=L10,5,0)","v":5},{"$f":"IF(M4=M10,4,0)","v":4},{"$f":"IF(N4=N10,3,0)","v":3},{"$f":"IF(O4=O10,2,0)","v":2},{"$f":"IF(P4=P10,1,0)","v":1},{"$f":"IF(Q4=Q10,1,0)","v":1}]
[null,"ALE92",null,{"$f":"IF(D4=D11,5,0)","v":5},{"$f":"IF(E4=E11,3,0)","v":3},{"$f":"IF(F4=F11,2,0)","v":2},{"$f":"IF(G4=G11,1,0)","v":1},null,{"$f":"IF(I4=I11,10,0)","v":10},{"$f":"IF(J4=J11,8,0)","v":8},{"$f":"IF(K4=K11,6,0)","v":6},{"$f":"IF(L4=L11,5,0)","v":5},{"$f":"IF(M4=M11,4,0)","v":4},{"$f":"IF(N4=N11,3,0)","v":3},{"$f":"IF(O4=O11,2,0)","v":2},{"$f":"IF(P4=P11,1,0)","v":1},{"$f":"IF(Q4=Q11,1,0)","v":1}]
[null,"SNOWSTORM",null,{"$f":"IF(D4=D12,5,0)","v":5},{"$f":"IF(E4=E12,3,0)","v":3},{"$f":"IF(F4=F12,2,0)","v":2},{"$f":"IF(G4=G12,1,0)","v":1},null,{"$f":"IF(I4=I12,10,0)","v":10},{"$f":"IF(J4=J12,8,0)","v":8},{"$f":"IF(K4=K12,6,0)","v":6},{"$f":"IF(L4=L12,5,0)","v":5},{"$f":"IF(M4=M12,4,0)","v":4},{"$f":"IF(N4=N12,3,0)","v":3},{"$f":"IF(O4=O12,2,0)","v":2},{"$f":"IF(P4=P12,1,0)","v":1},{"$f":"IF(Q4=Q12,1,0)","v":1}]
[null,"ELTARA",null,{"$f":"IF(D4=D13,5,0)","v":5},{"$f":"IF(E4=E13,3,0)","v":3},{"$f":"IF(F4=F13,2,0)","v":2},{"$f":"IF(G4=G13,1,0)","v":1},null,{"$f":"IF(I4=I13,10,0)","v":10},{"$f":"IF(J4=J13,8,0)","v":8},{"$f":"IF(K4=K13,6,0)","v":6},{"$f":"IF(L4=L13,5,0)","v":5},{"$f":"IF(M4=M13,4,0)","v":4},{"$f":"IF(N4=N13,3,0)","v":3},{"$f":"IF(O4=O13,2,0)","v":2},{"$f":"IF(P4=P13,1,0)","v":1},{"$f":"IF(Q4=Q13,1,0)","v":1}]
[null,"CORRY",null,{"$f":"IF(D4=D14,5,0)","v":5},{"$f":"IF(E4=E14,3,0)","v":3},{"$f":"IF(F4=F14,2,0)","v":2},{"$f":"IF(G4=G14,1,0)","v":1},null,{"$f":"IF(I4=I14,10,0)","v":10},{"$f":"IF(J4=J14,8,0)","v":8},{"$f":"IF(K4=K14,6,0)","v":6},{"$f":"IF(L4=L14,5,0)","v":5},{"$f":"IF(M4=M14,4,0)","v":4},{"$f":"IF(N4=N14,3,0)","v":3},{"$f":"IF(O4=O14,2,0)","v":2},{"$f":"IF(P4=P14,1,0)","v":1},{"$f":"IF(Q4=Q14,1,0)","v":1}]
[null,"MANU",null,{"$f":"IF(D4=D15,5,0)","v":5},{"$f":"IF(E4=E15,3,0)","v":3},{"$f":"IF(F4=F15,2,0)","v":2},{"$f":"IF(G4=G15,1,0)","v":1},null,{"$f":"IF(I4=I15,10,0)","v":10},{"$f":"IF(J4=J15,8,0)","v":8},{"$f":"IF(K4=K15,6,0)","v":6},{"$f":"IF(L4=L15,5,0)","v":5},{"$f":"IF(M4=M15,4,0)","v":4},{"$f":"IF(N4=N15,3,0)","v":3},{"$f":"IF(O4=O15,2,0)","v":2},{"$f":"IF(P4=P15,1,0)","v":1},{"$f":"IF(Q4=Q15,1,0)","v":1}]
[null,"BELLI83",null,{"$f":"IF(D4=D16,5,0)","v":5},{"$f":"IF(E4=E16,3,0)","v":3},{"$f":"IF(F4=F16,2,0)","v":2},{"$f":"IF(G4=G16,1,0)","v":1},null,{"$f":"IF(I4=I16,10,0)","v":10},{"$f":"IF(J4=J16,8,0)","v":8},{"$f":"IF(K4=K16,6,0)","v":6},{"$f":"IF(L4=L16,5,0)","v":5},{"$f":"IF(M4=M16,4,0)","v":4},{"$f":"IF(N4=N16,3,0)","v":3},{"$f":"IF(O4=O16,2,0)","v":2},{"$f":"IF(P4=P16,1,0)","v":1},{"$f":"IF(Q4=Q16,1,0)","v":1}]
[null,"WIZARD",null,{"$f":"IF(D4=D17,5,0)","v":5},{"$f":"IF(E4=E17,3,0)","v":3},{"$f":"IF(F4=F17,2,0)","v":2},{"$f":"IF(G4=G17,1,0)","v":1},null,{"$f":"IF(I4=I17,10,0)","v":10},{"$f":"IF(J4=J17,8,0)","v":8},{"$f":"IF(K4=K17,6,0)","v":6},{"$f":"IF(L4=L17,5,0)","v":5},{"$f":"IF(M4=M17,4,0)","v":4},{"$f":"IF(N4=N17,3,0)","v":3},{"$f":"IF(O4=O17,2,0)","v":2},{"$f":"IF(P4=P17,1,0)","v":1},{"$f":"IF(Q4=Q17,1,0)","v":1}]
[null,"UNLIMITED",null,{"$f":"IF(D4=D18,5,0)","v":5},{"$f":"IF(E4=E18,3,0)","v":3},{"$f":"IF(F4=F18,2,0)","v":2},{"$f":"IF(G4=G18,1,0)","v":1},null,{"$f":"IF(I4=I18,10,0)","v":10},{"$f":"IF(J4=J18,8,0)","v":8},{"$f":"IF(K4=K18,6,0)","v":6},{"$f":"IF(L4=L18,5,0)","v":5},{"$f":"IF(M4=M18,4,0)","v":4},{"$f":"IF(N4=N18,3,0)","v":3},{"$f":"IF(O4=O18,2,0)","v":2},{"$f":"IF(P4=P18,1,0)","v":1},{"$f":"IF(Q4=Q18,1,0)","v":1}]
[null,"FEBO",null,{"$f":"IF(D4=D19,5,0)","v":5},{"$f":"IF(E4=E19,3,0)","v":3},{"$f":"IF(F4=F19,2,0)","v":2},{"$f":"IF(G4=G19,1,0)","v":1},null,{"$f":"IF(I4=I19,10,0)","v":10},{"$f":"IF(J4=J19,8,0)","v":8},{"$f":"IF(K4=K19,6,0)","v":6},{"$f":"IF(L4=L19,5,0)","v":5},{"$f":"IF(M4=M19,4,0)","v":4},{"$f":"IF(N4=N19,3,0)","v":3},{"$f":"IF(O4=O19,2,0)","v":2},{"$f":"IF(P4=P19,1,0)","v":1},{"$f":"IF(Q4=Q19,1,0)","v":1}]
[null,"HEINRICH",null,{"$f":"IF(D4=D20,5,0)","v":5},{"$f":"IF(E4=E20,3,0)","v":3},{"$f":"IF(F4=F20,2,0)","v":2},{"$f":"IF(G4=G20,1,0)","v":1},null,{"$f":"IF(I4=I20,10,0)","v":10},{"$f":"IF(J4=J20,8,0)","v":8},{"$f":"IF(K4=K20,6,0)","v":6},{"$f":"IF(L4=L20,5,0)","v":5},{"$f":"IF(M4=M20,4,0)","v":4},{"$f":"IF(N4=N20,3,0)","v":3},{"$f":"IF(O4=O20,2,0)","v":2},{"$f":"IF(P4=P20,1,0)","v":1},{"$f":"IF(Q4=Q20,1,0)","v":1}]
[null,"SIMO89",null,{"$f":"IF(D4=D21,5,0)","v":5},{"$f":"IF(E4=E21,3,0)","v":3},{"$f":"IF(F4=F21,2,0)","v":2},{"$f":"IF(G4=G21,1,0)","v":1},null,{"$f":"IF(I4=I21,10,0)","v":10},{"$f":"IF(J4=J21,8,0)","v":8},{"$f":"IF(K4=K21,6,0)","v":6},{"$f":"IF(L4=L21,5,0)","v":5},{"$f":"IF(M4=M21,4,0)","v":4},{"$f":"IF(N4=N21,3,0)","v":3},{"$f":"IF(O4=O21,2,0)","v":2},{"$f":"IF(P4=P21,1,0)","v":1},{"$f":"IF(Q4=Q21,1,0)","v":1}]
[]
[null,null,null,"CALCOLI QUALIFICHE POSIZIONE INDOVINATA",null,null,null,null,"CALCOLI GARA POSIZIONE INDOVINATA"]
[null,null,null,"1° POSTO   ","2° POSTO   ","3° POSTO    ","4° POSTO   ",null,"1° POSTO   ","2° POSTO   ","3° POSTO   ","4° POSTO   ","5° POSTO   ","6° POSTO   ","7° POSTO   ","8° POSTO   ",null,"PRIME 3 POSIZIONI","PRIME 5 POSIZIONI","PRIME 8 POSIZIONI"]
[]
[null,"FUNMBNEL",null,{"$f":"IF(D4=D6,1,0)","v":1},{"$f":"IF(E4=E6,1,0)","v":1},{"$f":"IF(F4=F6,1,0)","v":1},{"$f":"IF(G4=G6,1,0)","v":1},null,{"$f":"IF(I4=I6,1,0)","v":1},1,1,1,1,1,1,1,null,{"$f":"SUM(I46:K46)","v":3},{"$f":"SUM(I46:M46)","v":5},{"$f":"SUM(I46:P46)","v":8}]
[null,"CRIS1981",null,{"$f":"IF(D4=D7,1,0)","v":1},{"$f":"IF(E4=E7,1,0)","v":1},{"$f":"IF(F4=F7,1,0)","v":1},{"$f":"IF(G4=G7,1,0)","v":1},null,{"$f":"IF(I4=I7,1,0)","v":1},1,1,1,1,1,1,1,null,{"$f":"SUM(I47:K47)","v":3},{"$f":"SUM(I47:M47)","v":5},8]
[null,"ZIONE",null,{"$f":"IF(D4=D8,1,0)","v":1},{"$f":"IF(E4=E8,1,0)","v":1},{"$f":"IF(F4=F8,1,0)","v":1},{"$f":"IF(G4=G8,1,0)","v":1},null,{"$f":"IF(I4=I8,1,0)","v":1},1,1,1,1,1,1,1,null,3,5,8]
[null,"PYNTAKX",null,{"$f":"IF(D4=D9,1,0)","v":1},{"$f":"IF(E4=E9,1,0)","v":1},{"$f":"IF(F4=F9,1,0)","v":1},{"$f":"IF(G4=G9,1,0)","v":1},null,{"$f":"IF(I4=I9,1,0)","v":1},1,1,1,1,1,1,1,null,3,5,8]
[null,"GIORGIO",null,{"$f":"IF(D4=D10,1,0)","v":1},{"$f":"IF(E4=E10,1,0)","v":1},{"$f":"IF(F4=F10,1,0)","v":1},{"$f":"IF(G4=G10,1,0)","v":1},null,{"$f":"IF(I4=I10,1,0)","v":1},1,1,1,1,1,1,1,null,3,5,8]
[null,"ALE92",null,{"$f":"IF(D4=D11,1,0)","v":1},{"$f":"IF(E4=E11,1,0)","v":1},{"$f":"IF(F4=F11,1,0)","v":1},{"$f":"IF(G4=G11,1,0)","v":1},null,{"$f":"IF(I4=I11,1,0)","v":1},1,1,1,1,1,1,1,null,3,5,8]
[null,"SNOWSTORM",null,{"$f":"IF(D4=D12,1,0)","v":1},{"$f":"IF(E4=E12,1,0)","v":1},{"$f":"IF(F4=F12,1,0)","v":1},{"$f":"IF(G4=G12,1,0)","v":1},null,{"$f":"IF(I4=I12,1,0)","v":1},1,1,1,1,1,1,1,null,3,5,8]
[null,"ELTARA",null,{"$f":"IF(D4=D13,1,0)","v":1},{"$f":"IF(E4=E13,1,0)","v":1},{"$f":"IF(F4=F13,1,0)","v":1},{"$f":"IF(G4=G13,1,0)","v":1},null,{"$f":"IF(I4=I13,1,0)","v":1},1,1,1,1,1,1,1,null,3,5,8]
[null,"CORRY",null,{"$f":"IF(D4=D14,1,0)","v":1},{"$f":"IF(E4=E14,1,0)","v":1},{"$f":"IF(F4=F14,1,0)","v":1},{"$f":"IF(G4=G14,1,0)","v":1},null,{"$f":"IF(I4=I14,1,0)","v":1},1,1,1,1,1,1,1,null,3,5,8]
[null,"MANU",null,{"$f":"IF(D4=D15,1,0)","v":1},{"$f":"IF(E4=E15,1,0)","v":1},{"$f":"IF(F4=F15,1,0)","v":1},{"$f":"IF(G4=G15,1,0)","v":1},null,{"$f":"IF(I4=I15,1,0)","v":1},1,1,1,1,1,1,1,null,3,5,8]
[null,"BELLI83",null,{"$f":"IF(D4=D16,1,0)","v":1},{"$f":"IF(E4=E16,1,0)","v":1},{"$f":"IF(F4=F16,1,0)","v":1},{"$f":"IF(G4=G16,1,0)","v":1},null,{"$f":"IF(I4=I16,1,0)","v":1},1,1,1,1,1,1,1,null,{"$f":"SUM(I56:K56)","v":3},{"$f":"SUM(I56:M56)","v":5},8]
[null,"WIZARD",null,{"$f":"IF(D4=D17,1,0)","v":1},{"$f":"IF(E4=E17,1,0)","v":1},{"$f":"IF(F4=F17,1,0)","v":1},{"$f":"IF(G4=G17,1,0)","v":1},null,{"$f":"IF(I4=I17,1,0)","v":1},1,1,1,1,1,1,1,null,{"$f":"SUM(I57:K57)","v":3},{"$f":"SUM(I57:M57)","v":5},{"$f":"SUM(I57:P57)","v":8}]
[null,"UNLIMITED",null,{"$f":"IF(D4=D18,1,0)","v":1},{"$f":"IF(E4=E18,1,0)","v":1},{"$f":"IF(F4=F18,1,0)","v":1},{"$f":"IF(G4=G18,1,0)","v":1},null,{"$f":"IF(I4=I18,1,0)","v":1},1,1,1,1,1,1,1,null,{"$f":"SUM(I58:K58)","v":3},{"$f":"SUM(I58:M58)","v":5},8]
[null,"FEBO",null,{"$f":"IF(D4=D19,1,0)","v":1},{"$f":"IF(E4=E19,1,0)","v":1},{"$f":"IF(F4=F19,1,0)","v":1},{"$f":"IF(G4=G19,1,0)","v":1},null,{"$f":"IF(I4=I19,1,0)","v":1},1,1,1,1,1,1,1,null,{"$f":"SUM(I59:K59)","v":3},{"$f":"SUM(I59:M59)","v":5},{"$f":"SUM(I59:P59)","v":8}]
[null,"HEINRICH",null,{"$f":"IF(D4=D20,1,0)","v":1},{"$f":"IF(E4=E20,1,0)","v":1},{"$f":"IF(F4=F20,1,0)","v":1},{"$f":"IF(G4=G20,1,0)","v":1},null,{"$f":"IF(I4=I20,1,0)","v":1},1,1,1,1,1,1,1,null,3,5,8]
[null,"SIMO89",null,{"$f":"IF(D4=D21,1,0)","v":1},{"$f":"IF(E4=E21,1,0)","v":1},{"$f":"IF(F4=F21,1,0)","v":1},{"$f":"IF(G4=G21,1,0)","v":1},null,{"$f":"IF(I4=I21,1,0)","v":1},1,1,1,1,1,1,1,null,{"$f":"SUM(I61:K61)","v":3},{"$f":"SUM(I61:M61)","v":5},{"$f":"SUM(I61:P61)","v":8}]
[]
[null,null,null,"CALCOLI QUALIFICHE PILOTI INDOVINATI",null,null,null,null,"CALCOLI GARA PILOTI INDOVINATI"]
[null,null,null,"1° POSTO   ","2° POSTO   ","3° POSTO    ","4° POSTO   ",null,"1° POSTO   ","2° POSTO   ","3° POSTO   ","4° POSTO   ","5° POSTO   ","6° POSTO   ","7° POSTO   ","8° POSTO   ",null,"PRIME 3 POSIZIONI","PRIME 5 POSIZIONI","PRIME 8 POSIZIONI"]
[]
[null,"FUNMBNEL",null,{"$f":"IFERROR(MATCH(D6,$D$4:$G$4,0),0)","v":0},0,0,0,null,{"$f":"IFERROR(MATCH(I6,$I$4:$P$4,0),0)","v":0},0,0,0,0,0,0,0,null,{"$f":"SUM(I86:K86)","v":0},{"$f":"SUM(I106:M106)","v":0},{"$f":"COUNTIF(I66:P66,\">0\")","v":0}]
[null,"CRIS1981",null,0,0,0,0,null,0,0,0,0,0,0,0,0,null,0,0,{"$f":"COUNTIF(I67:P67,\">0\")","v":0}]
[null,"ZIONE",null,0,0,0,0,null,0,0,0,0,0,0,0,0,null,0,0,0]
[null,"PYNTAKX",null,0,0,0,0,null,0,0,0,0,0,0,0,0,null,0,0,0]
[null,"GIORGIO",null,0,0,0,0,null,0,0,0,0,0,0,0,0,null,0,0,0]
[null,"ALE92",null,0,0,0,0,null,0,0,0,0,0,0,0,0,null,0,0,0]
[null,"SNOWSTORM",null,0,0,0,0,null,0,0,0,0,0,0,0,0,null,0,0,0]
[null,"ELTARA",null,0,0,0,0,null,0,0,0,0,0,0,0,0,null,0,0,0]
[null,"CORRY",null,0,0,0,0,null,0,0,0,0,0,0,0,0,null,0,0,0]
[null,"MANU",null,0,0,0,0,null,0,0,0,0,0,0,0,0,null,0,0,0]
[null,"BELLI83",null,0,0,0,0,null,0,0,0,0,0,0,0,0,null,{"$f":"SUM(I96:K96)","v":0},{"$f":"SUM(I116:M116)","v":0},{"$f":"COUNTIF(I76:P76,\">0\")","v":0}]
[null,"WIZARD",null,0,0,0,0,null,0,0,0,0,0,0,0,0,null,{"$f":"SUM(I97:K97)","v":0},0,{"$f":"COUNTIF(I77:P77,\">0\")","v":0}]
[null,"UNLIMITED",null,0,0,0,0,null,0,0,0,0,0,0,0,0,null,{"$f":"SUM(I98:K98)","v":0},{"$f":"SUM(I118:M118)","v":0},{"$f":"COUNTIF(I78:P78,\">0\")","v":0}]
[null,"FEBO",null,{"$f":"IFERROR(MATCH(D19,$D$4:$G$4,0),0)","v":0},0,0,0,null,{"$f":"IFERROR(MATCH(I19,$I$4:$P$4,0),0)","v":0},0,0,0,0,0,0,0,null,{"$f":"SUM(I102:K102)","v":0},{"$f":"SUM(I120:M120)","v":0},{"$f":"COUNTIF(I79:P79,\">0\")","v":0}]
[null,"HEINRICH",null,{"$f":"IFERROR(MATCH(D20,$D$4:$G$4,0),0)","v":0},0,0,0,null,{"$f":"IFERROR(MATCH(I20,$I$4:$P$4,0),0)","v":0},0,0,0,0,0,0,0,null,0,{"$f":"SUM(I122:M122)","v":0},0]
[null,"SIMO89",null,0,0,0,0,null,0,0,0,0,0,0,0,0,null,{"$f":"SUM(I104:K104)","v":0},{"$f":"SUM(I123:M123)","v":0},{"$f":"COUNTIF(I81:P81,\">0\")","v":0}]
[]
[null,null,null,null,null,null,null,null,"COLONNA APPOGGIO 3"]
[null,null,null,null,null,null,null,null,"1° POSTO   ","2° POSTO   ","3° POSTO   "]
[]
[null,"FUNMBNEL",null,null,null,null,null,null,{"$f":"IF(AND(I66<=3,I66>0),1,0)","v":0},0,0]
[null,"CRIS1981",null,null,null,null,null,null,0,0,0]
[null,"ZIONE",null,null,null,null,null,null,0,0,0]
[null,"PYNTAKX",null,null,null,null,null,null,0,0,0]
[null,"GIORGIO",null,null,null,null,null,null,0,0,0]
[null,"ALE92",null,null,null,null,null,null,0,0,0]
[null,"SNOWSTORM",null,null,null,null,null,null,0,0,0]
[null,"ELTARA",null,null,null,null,null,null,0,0,0]
[null,"CORRY",null,null,null,null,null,null,0,0,0]
[null,"MANU",null,null,null,null,null,null,0,0,0]
[null,"BELLI83",null,null,null,null,null,null,0,0,0]
[null,"WIZARD",null,null,null,null,null,null,0,0,0]
[null,"UNLIMITED",null,null,null,null,null,null,0,0,0]
[null,"FEBO",null,null,null,null,null,null,{"$f":"IF(AND(I79<=3,I79>0),1,0)","v":0},0,0]
[null,"HEINRICH",null,null,null,null,null,null,{"$f":"IF(AND(I80<=3,I80>0),1,0)","v":0},0,0]
[null,"SIMO89",null,null,null,null,null,null,0,0,0]
[]
[null,null,null,null,null,null,null,null,"COLONNA APPOGGIO 5"]
[null,null,null,null,null,null,null,null,"1° POSTO   ","2° POSTO   ","3° POSTO   ","4° POSTO   ","5° POSTO   "]
[]
[null,"FUNMBNEL",null,null,null,null,null,null,{"$f":"IF(AND(I66<=5,I66>0),1,0)","v":0},0,0,0,0]
[null,"CRIS1981",null,null,null,null,null,null,0,0,0,0,0]
[null,"ZIONE",null,null,null,null,null,null,0,0,0,0,0]
[null,"PYNTAKX",null,null,null,null,null,null,0,0,0,0,0]
[null,"GIORGIO",null,null,null,null,null,null,0,0,0,0,0]
[null,"ALE92",null,null,null,null,null,null,0,0,0,0,0]
[null,"SNOWSTORM",null,null,null,null,null,null,0,0,0,0,0]
[null,"ELTARA",null,null,null,null,null,null,0,0,0,0,0]
[null,"CORRY",null,null,null,null,null,null,0,0,0,0,0]
[null,"MANU",null,null,null,null,null,null,0,0,0,0,0]
[null,"BELLI83",null,null,null,null,null,null,0,0,0,0,0]
[null,"WIZARD",null,null,null,null,null,null,0,0,0,0,0]
[null,"UNLIMITED",null,null,null,null,null,null,0,0,0,0,0]
[null,"FEBO",null,null,null,null,null,null,{"$f":"IF(AND(I79<=5,I79>0),1,0)","v":0},0,0,0,0]
[null,"HEINRICH",null,null,null,null,null,null,{"$f":"IF(AND(I80<=5,I80>0),1,0)","v":0},0,0,0,0]
[null,"SIMO89",null,null,null,null,null,null,0,0,0,0,0]
[]
[null,null,null,null,null,null,null,null,"COLONNA APPOGGIO BONUS POSIZIONE NON IN ORDINE"]
[null,null,null,null,null,null,null,null,"1° POSTO   ","2° POSTO   ","3° POSTO   ","4° POSTO   ","5° POSTO   ","6° POSTO   ","7° POSTO   ","8° POSTO   "]
[]
[null,"FUNMBNEL",null,null,null,null,null,null,{"$f":"IF(AND(I66>0,I46=0),0.75,0)","v":0},0,0,0,0,0,0,0]
[null,"CRIS1981",null,null,null,null,null,null,0,0,0,0,0,0,0,0]
[null,"ZIONE",null,null,null,null,null,null,0,0,0,0,0,0,0,0]
[null,"PYNTAKX",null,null,null,null,null,null,0,0,0,0,0,0,0,0]
[null,"GIORGIO",null,null,null,null,null,null,0,0,0,0,0,0,0,0]
[null,"ALE92",null,null,null,null,null,null,0,0,0,0,0,0,0,0]
[null,"SNOWSTORM",null,null,null,null,null,null,0,0,0,0,0,0,0,0]
[null,"ELTARA",null,null,null,null,null,null,0,0,0,0,0,0,0,0]
[null,"CORRY",null,null,null,null,null,null,0,0,0,0,0,0,0,0]
[null,"MANU",null,null,null,null,null,null,0,0,0,0,0,0,0,0]
[null,"BELLI83",null,null,null,null,null,null,0,0,0,0,0,0,0,0]
[null,"WIZARD",null,null,null,null,null,null,0,0,0,0,0,0,0,0]
[null,"UNLIMITED",null,null,null,null,null,null,0,0,0,0,0,0,0,0]
[null,"FEBO",null,null,null,null,null,null,{"$f":"IF(AND(I79>0,I59=0),0.75,0)","v":0},0,0,0,0,0,0,0]
[null,"HEINRICH",null,null,null,null,null,null,{"$f":"IF(AND(I80>0,I60=0),0.75,0)","v":0},0,0,0,0,0,0,0]
[null,"SIMO89",null,null,null,null,null,null,0,0,0,0,0,0,0,0]

{"sheet":"Mie modifiche","index":1,"n_rows":18,"n_cols":3,"rows_kept":18,"cut":false,"hidden":false,"merged":[]}
["Punteggi classifica",1,10]
[null,2,6]
[null,3,4]
[null,4,3]
[null,5,2]
[null,6,1]
[]
["Bonus distacco"]
[null,60,4]
[null,40,2]
[null,20,1]
[]
["Bonus pole",1]
["Bonus GPV",0.5]
["Bonus 4 qualifica",1]
["Bonus podio",1]
["Bonus primi 5",1]
["Bonus primi 8",2]

{"sheet":"Riassunto","index":2,"n_rows":18,"n_cols":33,"rows_kept":18,"cut":false,"hidden":false,"merged":[]}
["GIOCATORI","PT. TABELLA GRADUATORIA ","BONUS POLE","BONUS GPV","BONUS 4 QUALI","BONUS (1-3) GARA","BONUS (1-5) GARA","BONUS (1-8) GARA","POSIZIONE IN GRADUATORIA","PUNTI SENZA BONUS","Distacco 3°-4°","BONUS DISTACCO 3°-4°","Distacco 2°-3°","BONUS DISTACCO 2°-3°","Distacco 1°-2°","BONUS DISTACCO 1°-2°","CLASSIFICA FINALE",null,null,"GIOCATORI","PT. TABELLA GRADUATORIA ","BONUS POLE","BONUS GPV","BONUS 4 QUALI","BONUS (1-3) GARA","BONUS (1-5) GARA","BONUS (1-8) GARA","POSIZIONE IN GRADUATORIA","PUNTI SENZA BONUS","BONUS DISTACCO 3°-4°","BONUS DISTACCO 2°-3°","BONUS DISTACCO 1°-2°","CLASSIFICA FINALE"]
[]
["FUNMBNEL",105,1,0.5,1,1,1,2,{"$f":"RANK(B3,$B$3:$B$18)","v":1},{"$f":"IF(I3>=7,0,VLOOKUP(I3,'Mie modifiche'!$B$1:$C$6,2))","v":10},{"$f":"IF(I3>3,0,$B$5-$B$6)","v":0},{"$f":" IF(K3>='Mie modifiche'!$B$9,'Mie modifiche'!$C$9, IF(Riassunto!K3>='Mie modifiche'!$B$10,'Mie modifiche'!$C$10, IF(Riassunto!K3>='Mie modifiche'!$B$11,'Mie modifiche'!$C$11,0)))","v":0},{"$f":"IF(I3>2,0,$B$4-$B$5)","v":0},{"$f":" IF(M3>='Mie modifiche'!$B$9,'Mie modifiche'!$C$9, IF(Riassunto!M3>='Mie modifiche'!$B$10,'Mie modifiche'!$C$10, IF(Riassunto!M3>='Mie modifiche'!$B$11,'Mie modifiche'!$C$11,0)))","v":0},{"$f":"IF(I3>1,0,$B$3-$B$4)","v":0},{"$f":" IF(O3>='Mie modifiche'!$B$9,'Mie modifiche'!$C$9, IF(Riassunto!O3>='Mie modifiche'!$B$10,'Mie modifiche'!$C$10, IF(Riassunto!O3>='Mie modifiche'!$B$11,'Mie modifiche'!$C$11,0)))","v":0},{"$f":"$C$3+$D$3+$E$3+$F$3+$G$3+$H$3+$J$3+$L$3+$N$3+$P$3","v":16.5},null,null,"BELLI83",34.25,1,0,1,0,0,0,{"$f":"RANK(U3,$B$3:$B$18)","v":{"$error":"#N/A"}},{"$f":"IF(AB3>=7,0,VLOOKUP(AB3,'Mie modifiche'!$B$1:$C$6,2))","v":{"$error":"#N/A"}},{"$f":" IF(K3>='Mie modifiche'!$B$9,'Mie modifiche'!$C$9, IF(Riassunto!K3>='Mie modifiche'!$B$10,'Mie modifiche'!$C$10, IF(Riassunto!K3>='Mie modifiche'!$B$11,'Mie modifiche'!$C$11,0)))","v":0},{"$f":" IF(M3>='Mie modifiche'!$B$9,'Mie modifiche'!$C$9, IF(Riassunto!M3>='Mie modifiche'!$B$10,'Mie modifiche'!$C$10, IF(Riassunto!M3>='Mie modifiche'!$B$11,'Mie modifiche'!$C$11,0)))","v":0},{"$f":" IF(O3>='Mie modifiche'!$B$9,'Mie modifiche'!$C$9, IF(Riassunto!O3>='Mie modifiche'!$B$10,'Mie modifiche'!$C$10, IF(Riassunto!O3>='Mie modifiche'!$B$11,'Mie modifiche'!$C$11,0)))","v":0},{"$f":"$C$3+$D$3+$E$3+$F$3+$G$3+$H$3+$J$3+$L$3+$N$3+$P$3","v":16.5}]
["CRIS1981",105,1,0.5,1,1,1,2,1,{"$f":"IF(I4>=7,0,VLOOKUP(I4,'Mie modifiche'!$B$1:$C$6,2))","v":10},{"$f":"IF(I4>3,0,$B$5-$B$6)","v":0},{"$f":" IF(K4>='Mie modifiche'!$B$9,'Mie modifiche'!$C$9, IF(Riassunto!K4>='Mie modifiche'!$B$10,'Mie modifiche'!$C$10, IF(Riassunto!K4>='Mie modifiche'!$B$11,'Mie modifiche'!$C$11,0)))","v":0},{"$f":"IF(I4>2,0,$B$4-$B$5)","v":0},{"$f":" IF(M4>='Mie modifiche'!$B$9,'Mie modifiche'!$C$9, IF(Riassunto!M4>='Mie modifiche'!$B$10,'Mie modifiche'!$C$10, IF(Riassunto!M4>='Mie modifiche'!$B$11,'Mie modifiche'!$C$11,0)))","v":0},0,0,{"$f":"$C$4+$D$4+$E$4+$F$4+$G$4+$H$4+$J$4+$L$4+$N$4+$P$4","v":16.5},null,null,"ALE92",34,1,0,1,0,0,0,{"$error":"#N/A"},{"$f":"IF(AB4>=7,0,VLOOKUP(AB4,'Mie modifiche'!$B$1:$C$6,2))","v":{"$error":"#N/A"}},{"$f":" IF(K4>='Mie modifiche'!$B$9,'Mie modifiche'!$C$9, IF(Riassunto!K4>='Mie modifiche'!$B$10,'Mie modifiche'!$C$10, IF(Riassunto!K4>='Mie modifiche'!$B$11,'Mie modifiche'!$C$11,0)))","v":0},{"$f":" IF(M4>='Mie modifiche'!$B$9,'Mie modifiche'!$C$9, IF(Riassunto!M4>='Mie modifiche'!$B$10,'Mie modifiche'!$C$10, IF(Riassunto!M4>='Mie modifiche'!$B$11,'Mie modifiche'!$C$11,0)))","v":0},0,{"$f":"$C$4+$D$4+$E$4+$F$4+$G$4+$H$4+$J$4+$L$4+$N$4+$P$4","v":16.5}]
["ZIONE",105,1,0.5,1,1,1,2,1,{"$f":"IF(I5>=7,0,VLOOKUP(I5,'Mie modifiche'!$B$1:$C$6,2))","v":10},{"$f":"IF(I5>3,0,$B$5-$B$6)","v":0},{"$f":" IF(K5>='Mie modifiche'!$B$9,'Mie modifiche'!$C$9, IF(Riassunto!K5>='Mie modifiche'!$B$10,'Mie modifiche'!$C$10, IF(Riassunto!K5>='Mie modifiche'!$B$11,'Mie modifiche'!$C$11,0)))","v":0},0,0,0,0,{"$f":"$C$5+$D$5+$E$5+$F$5+$G$5+$H$5+$J$5+$L$5+$N$5+$P$5","v":16.5},null,null,"CRIS1981",30.75,1,0,1,0,0,0,{"$error":"#N/A"},{"$f":"IF(AB5>=7,0,VLOOKUP(AB5,'Mie modifiche'!$B$1:$C$6,2))","v":{"$error":"#N/A"}},{"$f":" IF(K5>='Mie modifiche'!$B$9,'Mie modifiche'!$C$9, IF(Riassunto!K5>='Mie modifiche'!$B$10,'Mie modifiche'!$C$10, IF(Riassunto!K5>='Mie modifiche'!$B$11,'Mie modifiche'!$C$11,0)))","v":0},0,0,{"$f":"$C$5+$D$5+$E$5+$F$5+$G$5+$H$5+$J$5+$L$5+$N$5+$P$5","v":16.5}]
["GIOVANNI78",105,1,0.5,1,1,1,2,1,{"$f":"IF(I6>=7,0,VLOOKUP(I6,'Mie modifiche'!$B$1:$C$6,2))","v":10},0,0,0,0,0,0,{"$f":"$C$6+$D$6+$E$6+$F$6+$G$6+$H$6+$J$6+$L$6+$N$6+$P$6","v":16.5},null,null,"ELTARA",29,1,0,1,0,0,0,{"$error":"#N/A"},{"$f":"IF(AB6>=7,0,VLOOKUP(AB6,'Mie modifiche'!$B$1:$C$6,2))","v":{"$error":"#N/A"}},0,0,0,{"$f":"$C$6+$D$6+$E$6+$F$6+$G$6+$H$6+$J$6+$L$6+$N$6+$P$6","v":16.5}]
["HEINRICH",105,1,0.5,1,1,1,2,1,{"$f":"IF(I7>=7,0,VLOOKUP(I7,'Mie modifiche'!$B$1:$C$6,2))","v":10},0,0,0,0,0,0,{"$f":"$C$7+$D$7+$E$7+$F$7+$G$7+$H$7+$J$7+$L$7+$N$7+$P$7","v":16.5},null,null,"CORRY",20.25,1,0,0,0,0,0,{"$error":"#N/A"},{"$f":"IF(AB7>=7,0,VLOOKUP(AB7,'Mie modifiche'!$B$1:$C$6,2))","v":{"$error":"#N/A"}},0,0,0,{"$f":"$C$7+$D$7+$E$7+$F$7+$G$7+$H$7+$J$7+$L$7+$N$7+$P$7","v":16.5}]
["ALE92",105,1,0.5,1,1,1,2,1,{"$f":"IF(I8>=7,0,VLOOKUP(I8,'Mie modifiche'!$B$1:$C$6,2))","v":10},0,0,0,0,0,0,{"$f":"$C$8+$D$8+$E$8+$F$8+$G$8+$H$8+$J$8+$L$8+$N$8+$P$8","v":16.5},null,null,"ZIONE",16.75,1,0,0,0,0,0,{"$error":"#N/A"},{"$f":"IF(AB8>=7,0,VLOOKUP(AB8,'Mie modifiche'!$B$1:$C$6,2))","v":{"$error":"#N/A"}},0,0,0,{"$f":"$C$8+$D$8+$E$8+$F$8+$G$8+$H$8+$J$8+$L$8+$N$8+$P$8","v":16.5}]
["PESO",105,1,0.5,1,1,1,2,1,{"$f":"IF(I9>=7,0,VLOOKUP(I9,'Mie modifiche'!$B$1:$C$6,2))","v":10},0,0,0,0,0,0,{"$f":"$C$9+$D$9+$E$9+$F$9+$G$9+$H$9+$J$9+$L$9+$N$9+$P$9","v":16.5},null,null,"WIZARD",16,0,0,0,0,0,0,{"$error":"#N/A"},{"$f":"IF(AB9>=7,0,VLOOKUP(AB9,'Mie modifiche'!$B$1:$C$6,2))","v":{"$error":"#N/A"}},0,0,0,{"$f":"$C$9+$D$9+$E$9+$F$9+$G$9+$H$9+$J$9+$L$9+$N$9+$P$9","v":16.5}]
["ELTARA",105,1,0.5,1,1,1,2,1,{"$f":"IF(I10>=7,0,VLOOKUP(I10,'Mie modifiche'!$B$1:$C$6,2))","v":10},0,0,0,0,0,0,{"$f":"$C$10+$D$10+$E$10+$F$10+$G$10+$H$10+$J$10+$L$10+$N$10+$P$10","v":16.5},null,null,"SNOWSTORM",12,0,0,0,0,0,0,{"$error":"#N/A"},{"$f":"IF(AB10>=7,0,VLOOKUP(AB10,'Mie modifiche'!$B$1:$C$6,2))","v":{"$error":"#N/A"}},0,0,0,{"$f":"$C$10+$D$10+$E$10+$F$10+$G$10+$H$10+$J$10+$L$10+$N$10+$P$10","v":16.5}]
["CORRY",105,1,0.5,1,1,1,2,{"$f":"RANK(B11,$B$3:$B$18)","v":1},{"$f":"IF(I11>=7,0,VLOOKUP(I11,'Mie modifiche'!$B$1:$C$6,2))","v":10},0,0,0,0,0,0,{"$f":"$C$11+$D$11+$E$11+$F$11+$G$11+$H$11+$J$11+$L$11+$N$11+$P$11","v":16.5},null,null,"ALPICENTRALI",8,1,0,0,0,0,0,{"$f":"RANK(U11,$B$3:$B$18)","v":{"$error":"#N/A"}},{"$f":"IF(AB11>=7,0,VLOOKUP(AB11,'Mie modifiche'!$B$1:$C$6,2))","v":{"$error":"#N/A"}},0,0,0,{"$f":"$C$11+$D$11+$E$11+$F$11+$G$11+$H$11+$J$11+$L$11+$N$11+$P$11","v":16.5}]
["BELLI83",105,1,0.5,1,1,1,2,{"$f":"RANK(B12,$B$3:$B$18)","v":1},{"$f":"IF(I12>=7,0,VLOOKUP(I12,'Mie modifiche'!$B$1:$C$6,2))","v":10},0,0,0,0,0,0,{"$f":"$C$12+$D$12+$E$12+$F$12+$G$12+$H$12+$J$12+$L$12+$N$12+$P$12","v":16.5},null,null,"HEINRICH",8,1,0,0,0,0,0,{"$f":"RANK(U12,$B$3:$B$18)","v":{"$error":"#N/A"}},{"$f":"IF(AB12>=7,0,VLOOKUP(AB12,'Mie modifiche'!$B$1:$C$6,2))","v":{"$error":"#N/A"}},0,0,0,{"$f":"$C$12+$D$12+$E$12+$F$12+$G$12+$H$12+$J$12+$L$12+$N$12+$P$12","v":16.5}]
[null,105,1,0.5,1,1,1,2,1,{"$f":"IF(I13>=7,0,VLOOKUP(I13,'Mie modifiche'!$B$1:$C$6,2))","v":10},0,0,0,0,0,0,{"$f":"$C$13+$D$13+$E$13+$F$13+$G$13+$H$13+$J$13+$L$13+$N$13+$P$13","v":16.5},null,null,"FEBO",5,0,0,0,0,0,0,{"$error":"#N/A"},{"$f":"IF(AB13>=7,0,VLOOKUP(AB13,'Mie modifiche'!$B$1:$C$6,2))","v":{"$error":"#N/A"}},0,0,0,{"$f":"$C$13+$D$13+$E$13+$F$13+$G$13+$H$13+$J$13+$L$13+$N$13+$P$13","v":16.5}]
[null,105,1,0.5,1,1,1,2,1,{"$f":"IF(I14>=7,0,VLOOKUP(I14,'Mie modifiche'!$B$1:$C$6,2))","v":10},0,0,0,0,0,0,{"$f":"$C$14+$D$14+$E$14+$F$14+$G$14+$H$14+$J$14+$L$14+$N$14+$P$14","v":16.5},null,null,"FUNMBNEL",3,0,0,0,0,0,0,{"$error":"#N/A"},{"$f":"IF(AB14>=7,0,VLOOKUP(AB14,'Mie modifiche'!$B$1:$C$6,2))","v":{"$error":"#N/A"}},0,0,0,{"$f":"$C$14+$D$14+$E$14+$F$14+$G$14+$H$14+$J$14+$L$14+$N$14+$P$14","v":16.5}]
[null,105,1,0.5,1,1,1,2,1,{"$f":"IF(I15>=7,0,VLOOKUP(I15,'Mie modifiche'!$B$1:$C$6,2))","v":10},0,0,0,0,0,0,{"$f":"$C$15+$D$15+$E$15+$F$15+$G$15+$H$15+$J$15+$L$15+$N$15+$P$15","v":16.5},null,null,null,0,0,0,0,0,0,0,{"$error":"#N/A"},{"$f":"IF(AB15>=7,0,VLOOKUP(AB15,'Mie modifiche'!$B$1:$C$6,2))","v":{"$error":"#N/A"}},0,0,0,{"$f":"$C$15+$D$15+$E$15+$F$15+$G$15+$H$15+$J$15+$L$15+$N$15+$P$15","v":16.5}]
[null,105,1,0.5,1,1,1,2,1,{"$f":"IF(I16>=7,0,VLOOKUP(I16,'Mie modifiche'!$B$1:$C$6,2))","v":10},0,0,0,0,0,0,{"$f":"$C$16+$D$16+$E$16+$F$16+$G$16+$H$16+$J$16+$L$16+$N$16+$P$16","v":16.5},null,null,null,0,0,0,0,0,0,0,{"$error":"#N/A"},{"$f":"IF(AB16>=7,0,VLOOKUP(AB16,'Mie modifiche'!$B$1:$C$6,2))","v":{"$error":"#N/A"}},0,0,0,{"$f":"$C$16+$D$16+$E$16+$F$16+$G$16+$H$16+$J$16+$L$16+$N$16+$P$16","v":16.5}]
[null,105,1,0.5,1,1,1,2,1,{"$f":"IF(I17>=7,0,VLOOKUP(I17,'Mie modifiche'!$B$1:$C$6,2))","v":10},0,0,0,0,0,0,{"$f":"$C$17+$D$17+$E$17+$F$17+$G$17+$H$17+$J$17+$L$17+$N$17+$P$17","v":16.5},null,null,null,0,0,0,0,0,0,0,{"$error":"#N/A"},{"$f":"IF(AB17>=7,0,VLOOKUP(AB17,'Mie modifiche'!$B$1:$C$6,2))","v":{"$error":"#N/A"}},0,0,0,{"$f":"$C$17+$D$17+$E$17+$F$17+$G$17+$H$17+$J$17+$L$17+$N$17+$P$17","v":16.5}]
[null,105,1,0.5,1,1,1,2,1,{"$f":"IF(I18>=7,0,VLOOKUP(I18,'Mie modifiche'!$B$1:$C$6,2))","v":10},0,0,0,0,0,0,{"$f":"$C$18+$D$18+$E$18+$F$18+$G$18+$H$18+$J$18+$L$18+$N$18+$P$18","v":16.5},null,null,null,0,0,0,0,0,0,0,{"$error":"#N/A"},{"$f":"IF(AB18>=7,0,VLOOKUP(AB18,'Mie modifiche'!$B$1:$C$6,2))","v":{"$error":"#N/A"}},0,0,0,{"$f":"$C$18+$D$18+$E$18+$F$18+$G$18+$H$18+$J$18+$L$18+$N$18+$P$18","v":16.5}]